BEGIN:VCALENDAR
VERSION:2.0
PRODID:-//wp-events-plugin.com//7.0.4//EN
TZID:America/Chicago
X-WR-TIMEZONE:America/Chicago
BEGIN:VEVENT
UID:0-21@proudtheater.org
DTSTART:20190914T120000Z
DTEND:20190914T160000Z
DTSTAMP:20220806T034200Z
URL:https://proudtheater.org/events/proud-theater-at-new-pride-alive-stron
 gerthanthestorm/
SUMMARY:Proud Theater at NEW Pride Alive #StrongerThanTheStorm
DESCRIPTION:\n\n&nbsp\;\n\nProud Theater will be tabling at the rescheduled
  date for NEW Pride Alive! We will be at the Brown County Fairgrounds to t
 alk to folks about Proud Theater-Green Bay. Come talk to us!
ATTACH;FMTTYPE=image/jpeg:https://proudtheater.org/wp-content/uploads/site
 s/2/2022/08/proud-placeholder.jpg
CATEGORIES:Proud Theater-Green Bay
LOCATION:Brown County Fairgrounds\, 1500 Fort Howard Avenue\, De Pere\, Wis
 consin\, 54115\, Brown County\, United States
GEO:44.461717;-88.07085
X-APPLE-STRUCTURED-LOCATION;VALUE=URI;X-ADDRESS=1500 Fort Howard Avenue\, D
 e Pere\, Wisconsin\, 54115\, Brown County\, United States;X-APPLE-RADIUS=1
 00;X-TITLE=Brown County Fairgrounds:geo:44.461717,-88.07085
END:VEVENT
END:VCALENDAR