BEGIN:VCALENDAR
VERSION:2.0
PRODID:-//wp-events-plugin.com//7.0.4//EN
TZID:America/Chicago
X-WR-TIMEZONE:America/Chicago
BEGIN:VEVENT
UID:0-20@proudtheater.org
DTSTART:20190818T130000Z
DTEND:20190818T200000Z
DTSTAMP:20220806T034157Z
URL:https://proudtheater.org/events/proud-theater-at-outreach-magic-festiv
 al/
SUMMARY:Proud Theater at OutReach Magic Festival
DESCRIPTION:Proud Theater will have a booth at the 2019 OutReach Magic Fest
 ival. Come find us and talk to us about Proud Theater-Madison and Proud Th
 eater Beyond-Madison!
ATTACH;FMTTYPE=image/jpeg:https://proudtheater.org/wp-content/uploads/site
 s/2/2022/08/proud-placeholder.jpg
LOCATION:Warner Park\, 3110 North Sherman Avenue\, Madison\, Wisconsin\, 53
 704\, Dane County\, United States
GEO:43.1298617;-89.3636168
X-APPLE-STRUCTURED-LOCATION;VALUE=URI;X-ADDRESS=3110 North Sherman Avenue\,
  Madison\, Wisconsin\, 53704\, Dane County\, United States;X-APPLE-RADIUS=
 100;X-TITLE=Warner Park:geo:43.1298617,-89.3636168
END:VEVENT
END:VCALENDAR