BEGIN:VCALENDAR
VERSION:2.0
PRODID:-//wp-events-plugin.com//7.0.4//EN
TZID:America/Chicago
X-WR-TIMEZONE:America/Chicago
BEGIN:VEVENT
UID:0-15@proudtheater.org
DTSTART:20190629T100000Z
DTEND:20190629T130000Z
DTSTAMP:20220806T034137Z
URL:https://proudtheater.org/events/proud-theater-wausau-at-northwoods-pri
 de/
SUMMARY:Proud Theater-Wausau at Northwoods Pride
DESCRIPTION:Proud Theater-Wausau will be at Northwoods Pride! Come and chat
  with us- whether you’re a youth in Northcentral Wisconsin looking to co
 nnect with other area youth or another community member or ally\, we want 
 to hear from you! We will be at the Lakeside Building at Nicolet College.
ATTACH;FMTTYPE=image/jpeg:https://proudtheater.org/wp-content/uploads/site
 s/2/2022/08/proud-placeholder.jpg
CATEGORIES:Proud Theater-Wausau
LOCATION:Lakeside Building at Nicolet College\, 5364 College Drive\, Rhinel
 ander\, Wisconsin\, 54501\, United States
GEO:45.609916;-89.42303
X-APPLE-STRUCTURED-LOCATION;VALUE=URI;X-ADDRESS=5364 College Drive\, Rhinel
 ander\, Wisconsin\, 54501\, United States;X-APPLE-RADIUS=100;X-TITLE=Lakes
 ide Building at Nicolet College:geo:45.609916,-89.42303
END:VEVENT
END:VCALENDAR