BEGIN:VCALENDAR
VERSION:2.0
PRODID:-//wp-events-plugin.com//7.0.4//EN
TZID:America/Chicago
X-WR-TIMEZONE:America/Chicago
BEGIN:VEVENT
UID:0-16@proudtheater.org
DTSTART:20190629T120000Z
DTEND:20190629T160000Z
DTSTAMP:20220806T034142Z
URL:https://proudtheater.org/events/proud-theater-wausau-at-stevens-point-
 pride/
SUMMARY:Proud Theater-Wausau at Stevens Point Pride
DESCRIPTION:Proud Theater-Wausau will be tabling at Stevens Point Pride! Co
 me and chat with us- whether you're a youth in Central Wisconsin looking t
 o connect with other area youth or another community member or ally\, we w
 ant to hear from you!
ATTACH;FMTTYPE=image/jpeg:https://proudtheater.org/wp-content/uploads/site
 s/2/2022/08/proud-placeholder.jpg
CATEGORIES:Proud Theater-Wausau
LOCATION:Pfiffner Pioneer Park\, 1110 Crosby Avenue\, Stevens Point\, Wisco
 nsin\, 54481\, Portage County\, United States
GEO:44.5245308;-89.5888277
X-APPLE-STRUCTURED-LOCATION;VALUE=URI;X-ADDRESS=1110 Crosby Avenue\, Steven
 s Point\, Wisconsin\, 54481\, Portage County\, United States;X-APPLE-RADIU
 S=100;X-TITLE=Pfiffner Pioneer Park:geo:44.5245308,-89.5888277
END:VEVENT
END:VCALENDAR